BEGIN:VCALENDAR
VERSION:2.0
PRODID:icalendar-ruby
CALSCALE:GREGORIAN
METHOD:PUBLISH
BEGIN:VEVENT
DTSTAMP:20260424T193140Z
UID:42-395390@dunnschapel.com
DTSTART:20261021T223000Z
DTEND:20261021T233000Z
CLASS:PUBLIC
CREATED:20260424T133908
DESCRIPTION:
LAST-MODIFIED:20260424T133908
LOCATION:Dunn's Chapel
SUMMARY:Wednesday Service
URL;VALUE=URI:https://www.dunnschapel.com/events/wednesday-service--42/2026
 -10-21
ATTACH;FILENAME=Pray Like a King.png;FMTTYPE=image/png:https://dq5pwpg1q8ru
 0.cloudfront.net/2025/11/12/15/39/37/0b4a3ef6-f52c-40ca-ae20-3cda52e8f7a0/
 Pray%20Like%20a%20King.png
END:VEVENT
END:VCALENDAR
